BEGIN:VCALENDAR
VERSION:2.0
PRODID:-//Tukios.com/
BEGIN:VEVENT
UID:6cd5d55f-7db8-4422-9b69-a0a28cafe512@www.rosecityfuneralhome.com
DTSTAMP:20260421T040223Z
DTSTART:20260508T180000Z
DTEND:20260508T193000Z
SUMMARY:Funeral Service
DESCRIPTION:
URL:https://www.rosecityfuneralhome.com/obituaries/martin-johansen
LOCATION: 5625 NE Fremont Street  Portland OR 97213
GEO:45.5491327;-122.6099232
END:VEVENT
END:VCALENDAR