BEGIN:VCALENDAR
VERSION:2.0
PRODID:-//Tukios.com/
BEGIN:VEVENT
UID:976038d6-fc0b-468b-8905-4f2320a95984@www.rosecityfuneralhome.com
DTSTAMP:20260421T040736Z
DTSTART:20260507T170000Z
DTEND:20260507T230000Z
SUMMARY:Visitation
DESCRIPTION:
URL:https://www.rosecityfuneralhome.com/obituaries/martin-johansen
LOCATION: 5625 NE Fremont Street  Portland OR 97213
GEO:45.5491327;-122.6099232
END:VEVENT
END:VCALENDAR